BEGIN:VCALENDAR
VERSION:2.0
PRODID:spatie/icalendar-generator
DESCRIPTION:Veranstaltungen von Kita St. Alfons
X-WR-CALDESC:Veranstaltungen von Kita St. Alfons
REFRESH-INTERVAL;VALUE=DURATION:PT1440M
X-PUBLISHED-TTL:PT1440M
BEGIN:VTIMEZONE
TZID:Europe/Berlin
BEGIN:STANDARD
DTSTART:20241027T030000Z
TZOFFSETFROM:+0200
TZOFFSETTO:+0100
END:STANDARD
BEGIN:DAYLIGHT
DTSTART:20250330T020000Z
TZOFFSETFROM:+0100
TZOFFSETTO:+0200
END:DAYLIGHT
BEGIN:STANDARD
DTSTART:20251026T030000Z
TZOFFSETFROM:+0200
TZOFFSETTO:+0100
END:STANDARD
END:VTIMEZONE
BEGIN:VTIMEZONE
TZID:UTC
BEGIN:STANDARD
DTSTART:20250725T090247Z
TZOFFSETFROM:+0000
TZOFFSETTO:+0000
END:STANDARD
END:VTIMEZONE
BEGIN:VEVENT
UID:25-15
DTSTAMP:20260421T090247Z
SUMMARY:Teamtag\, Kita zu
LOCATION:Kita
ORGANIZER;CN=admin:MAILTO:dominik.elsner@gmx.de
DTSTART;TZID=Europe/Berlin;VALUE=DATE:20250610
DTEND;TZID=Europe/Berlin;VALUE=DATE:20250611
X-ALT-DESC;FMTTYPE=TEXT/HTML:Teamtag\, Kita bleibt geschlossen
CATEGORIES:Schließtage
URL;VALUE=URI:https://kita-st-alfons.de/mc-events/teamtag-kita-zu/
METHOD:PUBLISH
END:VEVENT
END:VCALENDAR