BEGIN:VCALENDAR
VERSION:2.0
PRODID:spatie/icalendar-generator
DESCRIPTION:Veranstaltungen von Kita St. Alfons
X-WR-CALDESC:Veranstaltungen von Kita St. Alfons
REFRESH-INTERVAL;VALUE=DURATION:PT1440M
X-PUBLISHED-TTL:PT1440M
BEGIN:VTIMEZONE
TZID:Europe/Berlin
BEGIN:STANDARD
DTSTART:20251026T030000Z
TZOFFSETFROM:+0200
TZOFFSETTO:+0100
END:STANDARD
BEGIN:DAYLIGHT
DTSTART:20260329T020000Z
TZOFFSETFROM:+0100
TZOFFSETTO:+0200
END:DAYLIGHT
BEGIN:STANDARD
DTSTART:20261025T030000Z
TZOFFSETFROM:+0200
TZOFFSETTO:+0100
END:STANDARD
END:VTIMEZONE
BEGIN:VTIMEZONE
TZID:UTC
BEGIN:STANDARD
DTSTART:20250724T170836Z
TZOFFSETFROM:+0000
TZOFFSETTO:+0000
END:STANDARD
END:VTIMEZONE
BEGIN:VEVENT
UID:87-47
DTSTAMP:20260420T170836Z
SUMMARY:Dienstbesprechung - Abholung bis 15:30 Uhr
LOCATION:Kita
ORGANIZER;CN=admin:MAILTO:dominik.elsner@gmx.de
DTSTART;TZID=Europe/Berlin:20260504T153000
DTEND;TZID=Europe/Berlin:20260504T163000
X-ALT-DESC;FMTTYPE=TEXT/HTML:
CATEGORIES:Dienstbesprechungen
URL;VALUE=URI:https://kita-st-alfons.de/mc-events/dienstbesprechung-abholun
 g-bis-1530-uhr-9/
METHOD:PUBLISH
END:VEVENT
END:VCALENDAR